BEGIN:VCALENDAR
VERSION:2.0
PRODID:-//eventon.com NONSGML v1.0//EN
CALSCALE:GREGORIAN
METHOD:PUBLISH
BEGIN:VEVENT
UID:69e5323d6f172
DTSTAMP:20260419T215125
DTSTART:20250403T080000Z
DTEND:20250405T140000Z
TZID:Europe/Berlin
LOCATION:
SUMMARY:3. Teil Ausbildung zum zertifizierten Regulationstherapeuten - AUSGEBUCHT - WARTELISTE
DESCRIPTION: 3.Teil der 3-teiligen Ausbildungsreihe zum zertifizierten Regulationstherapeuten Der Darm &#8211; das Ladekabel der Zellen Ort: Hotel FREIZEIT IN\,  Dransfelder Stra e 3\,  37079 Göttingen Programm und Anmeldung\nhttps://www.igafev.com/events/3-teil-ausbildung-zum-zertifizierten-regulationstherapeuten/
URL:https://www.igafev.com/events/3-teil-ausbildung-zum-zertifizierten-regulationstherapeuten/
END:VEVENT
END:VCALENDAR